BEGIN:VCALENDAR
PRODID:-//eluceo/ical//2.0/EN
VERSION:2.0
CALSCALE:GREGORIAN
BEGIN:VEVENT
UID:1e523751-b652-4dfa-99ec-1a207475c350@hypo.org
DTSTAMP:20250918T074714Z
SUMMARY:Valuation Committee & Roundtable - Venice
DESCRIPTION:
URL:https://hypo.org/events/valuation-committee-roundtable-venice
DTSTART;VALUE=DATE:20250925
DTEND;VALUE=DATE:20250927
ORGANIZER;CN=EMF | ECBC:mailto:info@hypo.org
END:VEVENT
END:VCALENDAR
