BEGIN:VCALENDAR
PRODID:-//eluceo/ical//2.0/EN
VERSION:2.0
CALSCALE:GREGORIAN
BEGIN:VEVENT
UID:77f09935-2fab-4a09-98e2-7928c1af66f4@hypo.org
DTSTAMP:20251208T142450Z
SUMMARY:Virtual ISMMA Meeting
DESCRIPTION:
URL:https://hypo.org/events/virtual-ismma-meeting-1
DTSTART;VALUE=DATE:20251215
ORGANIZER;CN=EMF | ECBC:mailto:info@hypo.org
END:VEVENT
END:VCALENDAR
