BEGIN:VCALENDAR
PRODID:-//eluceo/ical//2.0/EN
VERSION:2.0
CALSCALE:GREGORIAN
BEGIN:VEVENT
UID:12a7412b-f0c5-4e80-8cfd-beb6e8f74ed1@hypo.org
DTSTAMP:20251006T091324Z
SUMMARY:Research & Data Committee Meeting - Berlin
DESCRIPTION:
URL:https://hypo.org/events/research-data-committee-meeting-berlin
DTSTART;VALUE=DATE:20251021
ORGANIZER;CN=EMF | ECBC:mailto:info@hypo.org
END:VEVENT
END:VCALENDAR
