BEGIN:VCALENDAR
PRODID:-//eluceo/ical//2.0/EN
VERSION:2.0
CALSCALE:GREGORIAN
BEGIN:VEVENT
UID:42c4f206-37d7-4e9a-b800-ce2b099d56e3@hypo.org
DTSTAMP:20251006T091743Z
SUMMARY:Legal Affairs Committee
DESCRIPTION:
URL:https://hypo.org/events/legal-affairs-committee
DTSTART;VALUE=DATE:20251022
ORGANIZER;CN=EMF | ECBC:mailto:info@hypo.org
END:VEVENT
END:VCALENDAR
