BEGIN:VCALENDAR
PRODID:-//eluceo/ical//2.0/EN
VERSION:2.0
CALSCALE:GREGORIAN
BEGIN:VEVENT
UID:a8009c01-86ca-4ebb-8522-2297da594001@hypo.org
DTSTAMP:20251119T134100Z
SUMMARY:FT Live CEE Forum 2026 & Covered Bond Briefing
DESCRIPTION:
URL:https://hypo.org/events/ft-live-cee-forum-2026-covered-bond-briefing
DTSTART;VALUE=DATE:20260113
DTEND;VALUE=DATE:20260115
ORGANIZER;CN=EMF | ECBC:mailto:info@hypo.org
END:VEVENT
END:VCALENDAR
