BEGIN:VCALENDAR
PRODID:-//eluceo/ical//2.0/EN
VERSION:2.0
CALSCALE:GREGORIAN
BEGIN:VEVENT
UID:5f2cf566-f212-4f61-8ed6-39457c151de1@hypo.org
DTSTAMP:20260320T135708Z
SUMMARY:38th ECBC Plenary Meeting & Related Events
DESCRIPTION:
URL:https://hypo.org/events/38th-ecbc-plenary-meeting-related-events
DTSTART;VALUE=DATE:20260504
DTEND;VALUE=DATE:20260508
ORGANIZER;CN=EMF | ECBC:mailto:info@hypo.org
END:VEVENT
END:VCALENDAR
