BEGIN:VCALENDAR
PRODID:-//eluceo/ical//2.0/EN
VERSION:2.0
CALSCALE:GREGORIAN
BEGIN:VEVENT
UID:e95d83a7-3945-4e19-a89f-07d4666f1480@hypo.org
DTSTAMP:20251216T101132Z
SUMMARY:The Covered Bond Christmas Reception - London 
DESCRIPTION:
URL:https://hypo.org/events/covered-bond-christmas-reception-london
DTSTART;VALUE=DATE:20251201
ORGANIZER;CN=EMF | ECBC:mailto:info@hypo.org
END:VEVENT
END:VCALENDAR
