BEGIN:VCALENDAR
PRODID:-//eluceo/ical//2.0/EN
VERSION:2.0
CALSCALE:GREGORIAN
BEGIN:VEVENT
UID:62b4e7ac-2105-483f-8cee-63f9bd23e932@hypo.org
DTSTAMP:20251216T095313Z
SUMMARY:EMF Executive Committee (online)
DESCRIPTION:
URL:https://hypo.org/events/emf-executive-committee-online-0
DTSTART;VALUE=DATE:20260611
ORGANIZER;CN=EMF | ECBC:mailto:info@hypo.org
END:VEVENT
END:VCALENDAR
