BEGIN:VCALENDAR
PRODID:-//eluceo/ical//2.0/EN
VERSION:2.0
CALSCALE:GREGORIAN
BEGIN:VEVENT
UID:391e0828-bfff-4195-9ba0-14f6731f660d@hypo.org
DTSTAMP:20251216T094707Z
SUMMARY:EMF Executive Committee - Brussels (TBC)
DESCRIPTION:
URL:https://hypo.org/events/emf-executive-committee-brussels-tbc
DTSTART;VALUE=DATE:20261112
DTEND;VALUE=DATE:20261114
ORGANIZER;CN=EMF | ECBC:mailto:info@hypo.org
END:VEVENT
END:VCALENDAR
