BEGIN:VCALENDAR
PRODID:-//eluceo/ical//2.0/EN
VERSION:2.0
CALSCALE:GREGORIAN
BEGIN:VEVENT
UID:d4340a72-7f10-4c47-be4f-8f78bc1b3716@hypo.org
DTSTAMP:20251216T094608Z
SUMMARY:ECBC Steering Committee - Stavanger
DESCRIPTION:
URL:https://hypo.org/events/ecbc-steering-committee-stavanger
DTSTART;VALUE=DATE:20260505
ORGANIZER;CN=EMF | ECBC:mailto:info@hypo.org
END:VEVENT
END:VCALENDAR
