BEGIN:VCALENDAR
PRODID:-//eluceo/ical//2.0/EN
VERSION:2.0
CALSCALE:GREGORIAN
BEGIN:VEVENT
UID:a333da4b-8d39-4830-acb3-3a79a9359a70@hypo.org
DTSTAMP:20251216T094806Z
SUMMARY:ECBC Steering Committee - Seville ( TBC)
DESCRIPTION:
URL:https://hypo.org/events/ecbc-steering-committee-seville-tbc
DTSTART;VALUE=DATE:20260922
ORGANIZER;CN=EMF | ECBC:mailto:info@hypo.org
END:VEVENT
END:VCALENDAR
