BEGIN:VCALENDAR
PRODID:-//eluceo/ical//2.0/EN
VERSION:2.0
CALSCALE:GREGORIAN
BEGIN:VEVENT
UID:e4a1bbae-2678-42b6-92f8-89537203a993@hypo.org
DTSTAMP:20251216T095401Z
SUMMARY:ECBC Steering Committee (online)
DESCRIPTION:
URL:https://hypo.org/events/ecbc-steering-committee-online
DTSTART;VALUE=DATE:20260611
ORGANIZER;CN=EMF | ECBC:mailto:info@hypo.org
END:VEVENT
END:VCALENDAR
