BEGIN:VCALENDAR
PRODID:-//eluceo/ical//2.0/EN
VERSION:2.0
CALSCALE:GREGORIAN
BEGIN:VEVENT
UID:da6cb75c-31b9-4aa9-b2cd-1cfb679ca5af@hypo.org
DTSTAMP:20251216T100048Z
SUMMARY:CBLF Label Committee Meeting
DESCRIPTION:
URL:https://hypo.org/events/cblf-label-committee-meeting
DTSTART;VALUE=DATE:20260126
ORGANIZER;CN=EMF | ECBC:mailto:info@hypo.org
END:VEVENT
END:VCALENDAR
