BEGIN:VCALENDAR
PRODID:-//eluceo/ical//2.0/EN
VERSION:2.0
CALSCALE:GREGORIAN
BEGIN:VEVENT
UID:d1a87eaa-6a77-4482-988c-2d6cf9d63685@hypo.org
DTSTAMP:20251216T100300Z
SUMMARY:Joint Meeting of EMF Executive & ECBC Steering Committees 
DESCRIPTION:
URL:https://hypo.org/events/joint-meeting-emf-executive-ecbc-steering-commi
 ttees-1
DTSTART;VALUE=DATE:20260126
ORGANIZER;CN=EMF | ECBC:mailto:info@hypo.org
END:VEVENT
END:VCALENDAR
