BEGIN:VCALENDAR
PRODID:-//eluceo/ical//2.0/EN
VERSION:2.0
CALSCALE:GREGORIAN
BEGIN:VEVENT
UID:71e2700f-3901-4100-8476-a634ea00b3ab@hypo.org
DTSTAMP:20251216T100022Z
SUMMARY:ECBC Fact Book Working Group Meeting
DESCRIPTION:
URL:https://hypo.org/events/ecbc-fact-book-working-group-meeting
DTSTART;VALUE=DATE:20260127
ORGANIZER;CN=EMF | ECBC:mailto:info@hypo.org
END:VEVENT
END:VCALENDAR
