BEGIN:VCALENDAR
PRODID:-//eluceo/ical//2.0/EN
VERSION:2.0
CALSCALE:GREGORIAN
BEGIN:VEVENT
UID:88d450f7-984b-4549-bca3-50fceddd9157@hypo.org
DTSTAMP:20251216T095916Z
SUMMARY:EMF Research & Data Committee Meeting
DESCRIPTION:
URL:https://hypo.org/events/emf-research-data-committee-meeting-1
DTSTART;VALUE=DATE:20260317
ORGANIZER;CN=EMF | ECBC:mailto:info@hypo.org
END:VEVENT
END:VCALENDAR
