BEGIN:VCALENDAR
PRODID:-//eluceo/ical//2.0/EN
VERSION:2.0
CALSCALE:GREGORIAN
BEGIN:VEVENT
UID:4a976b00-1293-4fd3-8d3c-d0136e78e24b@hypo.org
DTSTAMP:20251216T095855Z
SUMMARY:EMF Legal Affairs Committee Meeting 
DESCRIPTION:
URL:https://hypo.org/events/emf-legal-affairs-committee-meeting-0
DTSTART;VALUE=DATE:20260318
ORGANIZER;CN=EMF | ECBC:mailto:info@hypo.org
END:VEVENT
END:VCALENDAR
